BEGIN:VCALENDAR
VERSION:2.0
PRODID:-//Forsyth Family Magazine - ECPv6.15.17//NONSGML v1.0//EN
CALSCALE:GREGORIAN
METHOD:PUBLISH
X-WR-CALNAME:Forsyth Family Magazine
X-ORIGINAL-URL:https://forsythfamilymagazine.com
X-WR-CALDESC:Events for Forsyth Family Magazine
REFRESH-INTERVAL;VALUE=DURATION:PT1H
X-Robots-Tag:noindex
X-PUBLISHED-TTL:PT1H
BEGIN:VTIMEZONE
TZID:America/New_York
BEGIN:DAYLIGHT
TZOFFSETFROM:-0500
TZOFFSETTO:-0400
TZNAME:EDT
DTSTART:20210314T070000
END:DAYLIGHT
BEGIN:STANDARD
TZOFFSETFROM:-0400
TZOFFSETTO:-0500
TZNAME:EST
DTSTART:20211107T060000
END:STANDARD
BEGIN:DAYLIGHT
TZOFFSETFROM:-0500
TZOFFSETTO:-0400
TZNAME:EDT
DTSTART:20220313T070000
END:DAYLIGHT
BEGIN:STANDARD
TZOFFSETFROM:-0400
TZOFFSETTO:-0500
TZNAME:EST
DTSTART:20221106T060000
END:STANDARD
BEGIN:DAYLIGHT
TZOFFSETFROM:-0500
TZOFFSETTO:-0400
TZNAME:EDT
DTSTART:20230312T070000
END:DAYLIGHT
BEGIN:STANDARD
TZOFFSETFROM:-0400
TZOFFSETTO:-0500
TZNAME:EST
DTSTART:20231105T060000
END:STANDARD
END:VTIMEZONE
BEGIN:VEVENT
DTSTART;TZID=America/New_York:20220820T090000
DTEND;TZID=America/New_York:20220820T090000
DTSTAMP:20260423T005248
CREATED:20220811T103015Z
LAST-MODIFIED:20220811T103015Z
UID:1334457-1660986000-1660986000@forsythfamilymagazine.com
SUMMARY:Back 2 School Bash with Winston-Salem Forsyth County Schools
DESCRIPTION:Join us and the Winston-Salem Forsyth County School for a Back to School Bash on Saturday\, August 20 from 9-11 am at the Winston-Salem Fairgrounds! We will be in attendance for the Nailed It! Race with The Home Builders Association of Winston Salem and WSFCS to collect school supplies. Ashley Belote\, the author of Listen Up\, Louella with be a reader along with other people reading books is various languages. The suggested age is 3-7 years old\, however\, the whole family is invited. Learn more and register at www.bookmarksnc.org/Storytime_August.
URL:https://forsythfamilymagazine.com/event/back-2-school-bash-with-winston-salem-forsyth-county-schools/
LOCATION:Winston-Salem Fairgrounds\, 569 Fairgrounds Boulevard Gate 7
ORGANIZER;CN="Bookmarks":MAILTO:info@bookmarksnc.org
END:VEVENT
BEGIN:VEVENT
DTSTART;VALUE=DATE:20220820
DTEND;VALUE=DATE:20220821
DTSTAMP:20260423T005248
CREATED:20220811T103733Z
LAST-MODIFIED:20220811T103733Z
UID:1334459-1660953600-1661039999@forsythfamilymagazine.com
SUMMARY:Toddler Trek
DESCRIPTION:Are you ready to take your toddler on an outdoor adventure? \nAbout this event \nJoin us for Toddler Treks where we will read a story\, smell fresh herbs from the garden\, investigate specimens up close from the natural world and explore the great outdoors. \nThis program is donation based. Thank you for your support! Even the smallest donations can make a difference. Whether it’s $1\, $5 or $50 there are many ways to support us\, and donating is just one. Visit our website to learn more about our mission and upcoming opportunities. www.minglewoodpreserve.org \nPlease register all participants attending (adults and children).
URL:https://forsythfamilymagazine.com/event/toddler-trek-2/
LOCATION:Minglewood Farm and Nature Preserve\, 238 Minglewood Rd. Westfield\, NC 27053
ORGANIZER;CN="Erin Pitts":MAILTO:erin@minglewoodpresrve.org
END:VEVENT
BEGIN:VEVENT
DTSTART;TZID=America/New_York:20220819T193000
DTEND;TZID=America/New_York:20220819T193000
DTSTAMP:20260423T005248
CREATED:20220811T104036Z
LAST-MODIFIED:20220811T104036Z
UID:1334461-1660937400-1660937400@forsythfamilymagazine.com
SUMMARY:The Warp Trio - by Music Carolina SummerFest
DESCRIPTION:The New York-based Warp Trio will present “Black Voices\,” a multidisciplinary performance that integrates Classical\, Jazz\, Hip-Hop\, and Spoken Word\, presenting works all created by African-American artists. \nMikael Darmanie\, piano; Josh Henderson\, violin; Ju Young Lee\, cello; Rick Martinez\, percussion; Emily Haughton\, dancer; Likwuid\, spoken word/Emcee \nTickets: https://app.arts-people.com/index.php?show=140766
URL:https://forsythfamilymagazine.com/event/the-warp-trio-by-music-carolina-summerfest/
LOCATION:Milton Rhodes Center for the Arts\, 251 North Spruce St.\, Winston-Salem\, NC 27101
END:VEVENT
BEGIN:VEVENT
DTSTART;TZID=America/New_York:20220818T173000
DTEND;TZID=America/New_York:20220818T193000
DTSTAMP:20260423T005248
CREATED:20220811T104453Z
LAST-MODIFIED:20220811T104453Z
UID:1334464-1660843800-1660851000@forsythfamilymagazine.com
SUMMARY:Young Professionals Networking
DESCRIPTION:Lewisville-Clemmons Young Professionals (LCYP) is open to young professionals aged 21 to 35\, as well as those who are young at heart! The Young Professionals group is part networking and mostly social\, giving opportunities to build relationships\, increase value to their employer\, and develop leadership skills. Additionally\, the Young Professionals Group promotes economic development within our community. \nWHO CAN JOIN LEWISVILLE-CLEMMONS YOUNG PROFESSIONALS?\nYoung Professionals (21-35) who share the goals and objectives of the Young Professionals program\, as well as the mission of the Lewisville-Clemmons Chamber of Commerce\, and the overall prosperity of our community. \nChamber Business Members are encouraged to join LCYP and/or invite/send qualified professionals from their staff. More than one representative from each business can join the overall membership of LCYP. \nThere is no annual fee for joining LCYP. This is a benefit offered to the members of the Lewisville-Clemmons Chamber of Commerce. Young Professionals Membership is open all year to any current Chamber member (aged 21 to 35\, and those young at heart!). Guests/non- members may attend two (2) meetings before joining the group. After two (2) sessions\, membership is required.
URL:https://forsythfamilymagazine.com/event/young-professionals-networking/
LOCATION:The Playground Golf & Sports Bar\, 6355 Jessie Lane\, Clemmons
ORGANIZER;CN="Denise Heidel":MAILTO:denise@lewisville-clemmons.com
END:VEVENT
BEGIN:VEVENT
DTSTART;TZID=America/New_York:20220818T160000
DTEND;TZID=America/New_York:20220818T190000
DTSTAMP:20260423T005248
CREATED:20220811T114506Z
LAST-MODIFIED:20220811T114506Z
UID:1334468-1660838400-1660849200@forsythfamilymagazine.com
SUMMARY:Health and Safety Fair
DESCRIPTION:Our Health Fair is a FREE opportunity for families to come learn more about ways to keep their families healthy. The first 100 families to visit the health fair on August 18th will receive a free bag of school supplies. \nFamilies do not need to register but we need to collect information from our vendors to add them to our promotional materials. Vendors\, please register below.
URL:https://forsythfamilymagazine.com/event/health-and-safety-fair/
LOCATION:Smart Start of Forsyth County\, 7820 North Point Blvd\, Winston Salem\, NC\, 27106
ORGANIZER;CN="Garet Beane":MAILTO:GaretB@SmartStart-FC.org
END:VEVENT
BEGIN:VEVENT
DTSTART;TZID=America/New_York:20220817T193000
DTEND;TZID=America/New_York:20220817T193000
DTSTAMP:20260423T005248
CREATED:20220811T114925Z
LAST-MODIFIED:20220811T114925Z
UID:1334473-1660764600-1660764600@forsythfamilymagazine.com
SUMMARY:Shall We Dance? - Larry Weng\, piano - by Music Carolina SummerFest
DESCRIPTION:Bach: Partita No. 1 in B flat Major\nChopin: Polonaise-Fantasie\nSchumann: Papillons\, Op. 2\nRavel: Menuet sur la nom “Haydn”\nRavel: la Valse Piano \nTickets: https://app.arts-people.com/index.php?show=140765
URL:https://forsythfamilymagazine.com/event/shall-we-dance-larry-weng-piano-by-music-carolina-summerfest/
LOCATION:Piedmont Music Center\, 212 N. Broad St.\, Winston-Salem\, NC 27101
ORGANIZER;CN="Joe Mount%2C Music Carolina":MAILTO:mountjf1@gmail.com
END:VEVENT
BEGIN:VEVENT
DTSTART;TZID=America/New_York:20220817T190000
DTEND;TZID=America/New_York:20220817T190000
DTSTAMP:20260423T005248
CREATED:20220811T115245Z
LAST-MODIFIED:20220811T115245Z
UID:1334475-1660762800-1660762800@forsythfamilymagazine.com
SUMMARY:4 on 4th: Stories from the South
DESCRIPTION:Come and hear from local Triad authors! Join us on Wednesday\, August 17 at 7 pm for 4 on 4th at Bookmarks. It’s a free\, in-person event with local authors talking about their new books. Authors featured are Michawl A. Almond (The Tannery)\, Cameron MacKenzie (River Weather)\, Patti Meredith (South of Heaven)\, and Tom Patterson (The Tom Patterson Years: Cultural Adentures of a Fledgling Scribe). 4 on 4th is a monthly event\, co-hosted by Winston-Salem Writers. Learn more and register at www.bookmarksnc.org/4on4th_August2022.
URL:https://forsythfamilymagazine.com/event/4-on-4th-stories-from-the-south/
LOCATION:Bookmarks\, 634 W. Fourth St. #110
ORGANIZER;CN="Bookmarks":MAILTO:info@bookmarksnc.org
END:VEVENT
BEGIN:VEVENT
DTSTART;TZID=America/New_York:20220816T190000
DTEND;TZID=America/New_York:20220816T190000
DTSTAMP:20260423T005248
CREATED:20220811T115456Z
LAST-MODIFIED:20220811T115456Z
UID:1334477-1660676400-1660676400@forsythfamilymagazine.com
SUMMARY:Raising Lazarus Book Launch with Beth Macy
DESCRIPTION:Join us for the national book launch of Raising Lazarus with New York Times bestselling author\, Beth Macy on Tuesday\, August 16 at 7 pm at Calvary Moravian Church. Raising Lazarus\, a complex story of public health\, big pharma\, dark money\, politics\, race\, and class that is by turns harrowing and heartening\, infuriating and inspiring\, and a must-read for all Americans. Macy will be in conversation This is a free event with no registration required. Learn more at www.bookmarksnc.org/raisinglazarusbooklaunch.
URL:https://forsythfamilymagazine.com/event/raising-lazarus-book-launch-with-beth-macy/
LOCATION:Calvary Moravian Church\, 600 Holly Avenue\, Winston-Salem\, NC 27101
ORGANIZER;CN="Bookmarks":MAILTO:info@bookmarksnc.org
END:VEVENT
BEGIN:VEVENT
DTSTART;TZID=America/New_York:20220814T193000
DTEND;TZID=America/New_York:20220814T193000
DTSTAMP:20260423T005248
CREATED:20220811T115719Z
LAST-MODIFIED:20220811T115719Z
UID:1334479-1660505400-1660505400@forsythfamilymagazine.com
SUMMARY:The Piedmont Jazz Composers Collective - by Music Carolina SummerFest
DESCRIPTION:Featuring the original compositions of five local jazz musicians\, arranged for jazz quintet\nMatt Kendrick\, bass; Federico Pivetta\, piano; Michael Kinchen\, saxophone; Cameron MacManus\, trombone; Kassem Williams\, drums \nTickets: https://app.arts-people.com/index.php?show=140752
URL:https://forsythfamilymagazine.com/event/the-piedmont-jazz-composers-collective-by-music-carolina-summerfest/
LOCATION:Piedmont Music Center\, 212 N. Broad St.\, Winston-Salem\, NC 27101
ORGANIZER;CN="Joe Mount%2C Music Carolina":MAILTO:mountjf1@gmail.com
END:VEVENT
BEGIN:VEVENT
DTSTART;TZID=America/New_York:20220813T190000
DTEND;TZID=America/New_York:20220813T190000
DTSTAMP:20260423T005248
CREATED:20220811T120009Z
LAST-MODIFIED:20220811T120009Z
UID:1334481-1660417200-1660417200@forsythfamilymagazine.com
SUMMARY:Bossa Nova with Martha Bassett's Quarteto Brasil - by Music Carolina SummerFest
DESCRIPTION:Martha Bassett\, Russell Kelly and friends performing Brazilian bossa nova from the 1950s and 60s. The ensemble shares the histories and translations of songs sung in Portuguese accompanied by two guitars. \nMartha Bassett\, guitar/vocals; Russell Kelly\, guitar; Brevan Hampden\, percussion; Reagan Mitchell\, saxophone/flute \nTickets: https://app.arts-people.com/index.php?show=140750
URL:https://forsythfamilymagazine.com/event/bossa-nova-with-martha-bassetts-quarteto-brasil-by-music-carolina-summerfest/
LOCATION:Milton Rhodes Center for the Arts\, 251 North Spruce St.\, Winston-Salem\, NC 27101
ORGANIZER;CN="Joe Mount%2C Music Carolina":MAILTO:mountjf1@gmail.com
END:VEVENT
BEGIN:VEVENT
DTSTART;TZID=America/New_York:20220813T183000
DTEND;TZID=America/New_York:20220813T213000
DTSTAMP:20260423T005248
CREATED:20220811T120419Z
LAST-MODIFIED:20220811T120419Z
UID:1334483-1660415400-1660426200@forsythfamilymagazine.com
SUMMARY:Laser Extravaganza: Floyd and Zeppelin
DESCRIPTION:We threw back to the ’90s with Lasers and Libations\, so in August we’re going even farther in the Wayback Machine! \nSave the Date for the last in our summer series of Laser Extravaganzas: Floyd and Zeppelin\, a ’70s themed party for adults on Saturday\, August 13\, from 6:30-9:30 pm. Dig out the flower power headbands\, tie-dye\, platform shoes\, and bell bottoms. Then head to Kaleideum North for beer\, brisket\, and two classic psychedelic rock laser shows. \nRadar Brewing Company is setting up a cash/credit bar at the event for beer purchases. Honkey Tonk Smokehouse is catering with smoked brisket\, chicken sandwiches\, sides\, and desserts. Event tickets include museum exploration\, food\, ’70s-themed arts and crafts\, and the hour-long laser shows of the best hits of Led Zeppelin and Pink Floyd. \n7 pm: Led Zeppelin\n8:30 pm: Pink Floyd \nAdvanced registration preferred. Tickets will be available at the door. Don’t forget to enter into our “Radical Raffle” upon arrival for the chance to win ‘70s-themed swag and gift cards! \nAdult members $20; Adult non-members $25
URL:https://forsythfamilymagazine.com/event/laser-extravaganza-floyd-and-zeppelin/
LOCATION:Kaleideum North\, 400 W. Hanes Mill Road Winston-Salem NC 27105
ORGANIZER;CN="Kaleideum":MAILTO:lwoodruff@kaleideum.org
END:VEVENT
BEGIN:VEVENT
DTSTART;VALUE=DATE:20220813
DTEND;VALUE=DATE:20220814
DTSTAMP:20260423T005248
CREATED:20220811T120950Z
LAST-MODIFIED:20220811T120950Z
UID:1334491-1660348800-1660435199@forsythfamilymagazine.com
SUMMARY:Flower Arranging Workshop
DESCRIPTION:Learn the basics of flower arranging; Margie will guide you through what it takes to create a beautiful\, seasonal flower arrangement. \nAbout this event \nJoin us for a fun morning on the farm! Learn what it takes to create a beautiful\, seasonal flower arrangement; from growing\, cutting and processing your flowers to designing your arrangement . Everyone will enjoy a tour of Minglewood’s pollinator garden and create their own arrangement to take home. All materials are provided.
URL:https://forsythfamilymagazine.com/event/flower-arranging-workshop/
LOCATION:Minglewood Farm and Nature Preserve\, 238 Minglewood Rd. Westfield\, NC 27053
ORGANIZER;CN="Erin Pitts":MAILTO:erin@minglewoodpresrve.org
END:VEVENT
BEGIN:VEVENT
DTSTART;VALUE=DATE:20220813
DTEND;VALUE=DATE:20220814
DTSTAMP:20260423T005248
CREATED:20220811T120732Z
LAST-MODIFIED:20220811T120732Z
UID:1334487-1660348800-1660435199@forsythfamilymagazine.com
SUMMARY:Movie Night in the Village: The Karate Kid
DESCRIPTION:Bring your chairs and blanket for an outdoor movie on the big screen! Kicking it old school with The Karate Kid (1984). Movie begins at dusk. 6pm “doors” open with food and treat trucks available for purchase and demonstrations from Tru Taekwondo!
URL:https://forsythfamilymagazine.com/event/movie-night-in-the-village-the-karate-kid/
LOCATION:Jerry Long YMCA\, South Peace Haven Road\, Clemmons
ORGANIZER;CN="Village of Clemmons":MAILTO:events@clemmons.org
END:VEVENT
BEGIN:VEVENT
DTSTART;TZID=America/New_York:20220812T173000
DTEND;TZID=America/New_York:20220812T190000
DTSTAMP:20260423T005248
CREATED:20220811T121250Z
LAST-MODIFIED:20220811T121250Z
UID:1334493-1660325400-1660330800@forsythfamilymagazine.com
SUMMARY:Fitness Fridays
DESCRIPTION:⚡️𝐅𝐑𝐄𝐄 𝐅𝐈𝐓𝐍𝐄𝐒𝐒 𝐅𝐑𝐈𝐃𝐀𝐘 𝗔𝗨𝗚𝗨𝗦𝗧 𝟭𝟮𝘁𝗵: 𝟱:𝟯𝟬-𝟲𝗣𝗠 \nJoin F45 Training WSNC and Innovation Quarter for our FREE workouts every second Friday of the month April-October 2022 in the Bailey Power Plant Coal Pit! \n➡️ 5:30-6 PM every second Friday of the month\n➡️ FREE workout\n➡️ Drink ticket to Incendiary included with registration\n➡️ All abilities welcome\, open to the public\n➡️ Must register to secure your spot\, they go quickly\, so make sure to act fast!!!\n➡️ Please bring MAT\, water bottle & sweat towel\n➡️ Registration: bit.ly/F45WSNCFITNESSFRIDAY
URL:https://forsythfamilymagazine.com/event/fitness-fridays/
LOCATION:F45 Training Winston-Salem\, 486 N Patterson Ave\, Suite 125
ORGANIZER;CN="F45 Training Winston-Salem":MAILTO:winstonsalem@f45training.com
END:VEVENT
BEGIN:VEVENT
DTSTART;TZID=America/New_York:20220811T190000
DTEND;TZID=America/New_York:20220811T190000
DTSTAMP:20260423T005248
CREATED:20220811T121547Z
LAST-MODIFIED:20220811T121547Z
UID:1334495-1660244400-1660244400@forsythfamilymagazine.com
SUMMARY:Bookmarks Presents Kyle Petty
DESCRIPTION:Bookmarks presents stock-car racing star\, country singer\, and sports broadcaster Kyle Petty in conversation about his new book\, Swerve or Die: Life at My Speed in the First Family of NASCAR Racing. Petty will be in conversation with ESPN journalist Ryan McGee. Join us for this conversation and receive a pre-signed copy of the memoir. There is a donation add-on for admission to the post-event booksigning/meet & greet with Kyle Petty. Each ticket comes with a pre-signed copy of the memoir. Learn more and get tickets at www.bookmarksnc.org/KylePetty.
URL:https://forsythfamilymagazine.com/event/bookmarks-presents-kyle-petty/
LOCATION:TBA\, TBA
ORGANIZER;CN="Bookmarks":MAILTO:info@bookmarksnc.org
END:VEVENT
BEGIN:VEVENT
DTSTART;VALUE=DATE:20220811
DTEND;VALUE=DATE:20220812
DTSTAMP:20260423T005248
CREATED:20220811T123104Z
LAST-MODIFIED:20220811T123104Z
UID:1334498-1660176000-1660262399@forsythfamilymagazine.com
SUMMARY:Summer Dances - by Music Carolina SummerFest
DESCRIPTION:Choreographers Elizabeth Clendinning\, Janice Lancaster\, and Monet Beatty\, return to SECCA for an evening of dance and music. \nMusicians include violinist Ruth Kelly\, a jazz trio with bassist Matt Kendrick\, Kassem Williams\, drums\, and saxophonist Michael Kinchen\, and the music ensemble Gamelan Giri Murti\, featuring traditional music for Balinese gamelan as well as a new composition by K.C. Pyle\, directed by Elizabeth Clendinning. Produced by Christina Soriano. \nTickets: https://app.arts-people.com/index.php?show=140750
URL:https://forsythfamilymagazine.com/event/summer-dances-by-music-carolina-summerfest/
LOCATION:SECCA\, 750 Marguerite Drive WSNC 27106
ORGANIZER;CN="Joe Mount%2C Music Carolina":MAILTO:mountjf1@gmail.com
END:VEVENT
BEGIN:VEVENT
DTSTART;TZID=America/New_York:20220810T160000
DTEND;TZID=America/New_York:20220810T180000
DTSTAMP:20260423T005248
CREATED:20220811T123437Z
LAST-MODIFIED:20220811T123437Z
UID:1334500-1660147200-1660154400@forsythfamilymagazine.com
SUMMARY:Open House & Emsculpt Neo Bus Tour
DESCRIPTION:Emsculpt Neo demos~Mini Injectable Consultations~\nSwag Bags~Specials on all Products & Procedures~\nRaffles for Emsculpt Neo\, Botox & More~\nMeet Surgeons & Staff~Taco Food Truck & Margaritas~\nRSVP by August 5th 336-768-8483
URL:https://forsythfamilymagazine.com/event/open-house-emsculpt-neo-bus-tour/
LOCATION:Salem Plastic Surgery & Renewal Med Spa\, 1345A Westgate Center Drive
END:VEVENT
BEGIN:VEVENT
DTSTART;TZID=America/New_York:20220809T193000
DTEND;TZID=America/New_York:20220809T193000
DTSTAMP:20260423T005248
CREATED:20220811T123651Z
LAST-MODIFIED:20220811T123651Z
UID:1334504-1660073400-1660073400@forsythfamilymagazine.com
SUMMARY:Lorena Guillén Tango Ensemble - by Music Carolina SummerFest
DESCRIPTION:The award-winning Lorena Guillén Tango Ensemble captivates audiences with soulful arrangements of Argentine tango standards and original compositions that create a dynamic pan-Latin fusion. \nLorena Guillén\, voice and artistic director; Alejandro Rutty\, piano and bass; Jacqui Carrasco\, violin; Guy Capuzzo\, guitar; Adam Ricci\, piano; Erik Schmidt\, percussion \nTickets: https://app.arts-people.com/index.php?show=140614
URL:https://forsythfamilymagazine.com/event/lorena-guillen-tango-ensemble-by-music-carolina-summerfest/
LOCATION:Milton Rhodes Center for the Arts\, 251 North Spruce St.\, Winston-Salem\, NC 27101
ORGANIZER;CN="Joe Mount%2C Music Carolina":MAILTO:mountjf1@gmail.com
END:VEVENT
BEGIN:VEVENT
DTSTART;TZID=America/New_York:20220809T183000
DTEND;TZID=America/New_York:20220809T183000
DTSTAMP:20260423T005248
CREATED:20220811T124020Z
LAST-MODIFIED:20220811T124020Z
UID:1334506-1660069800-1660069800@forsythfamilymagazine.com
SUMMARY:And the Category Is... with Author Ricky Tucker & Authoring Action
DESCRIPTION:Join Winston-Salem-raised writer-teacher Ricky Tucker\, and Authoring Action founders Nathan Ross Freeman and Lynn Rhoades as they discuss Tucker’s L.A. Times best-selling debut\, And the Category Is…: Inside New York’s Vogue\, House\, and Ballroom Community\, the importance of writing and performance in the lives of young people\, and the unparalleled impact of chosen family. This is a free event and register at www.bookmarksnc.org/RickyTucker_AuthoringAction.
URL:https://forsythfamilymagazine.com/event/and-the-category-is-with-author-ricky-tucker-authoring-action/
LOCATION:Bookmarks\, 634 W. Fourth St. #110
ORGANIZER;CN="Bookmarks":MAILTO:info@bookmarksnc.org
END:VEVENT
BEGIN:VEVENT
DTSTART;TZID=America/New_York:20220809T120000
DTEND;TZID=America/New_York:20220809T120000
DTSTAMP:20260423T005248
CREATED:20220811T124321Z
LAST-MODIFIED:20220811T124321Z
UID:1334508-1660046400-1660046400@forsythfamilymagazine.com
SUMMARY:Read Write Spell Volunteer Info Session
DESCRIPTION:Literacy Project Needs Volunteers \nRead Write Spell needs volunteer reading tutors to serve kindergarten through third-grade public-school students. We provide all of the training and ongoing support necessary for success. Due to the COVID pandemic\, the need for tutoring support is greater than ever before. An online information session for people interested in learning more about the program will be held on Tuesday\, August 9th at noon on zoom. \nFor more information or to register\, visit www.readws.org/becomeatutor. \n-End- \nAbout READWS\nAbout Read Write Spell\nBuilding on the premise that literacy is essential for individual and community success\, Read Write Spell works to ensure that every child in Forsyth County learns to read. Read Write Spell advocates for research-based reading instruction for all students and leverages the power of community volunteers to provide free\, long-term\, one-to-one tutoring to Winston-Salem/Forsyth County Schools (WS/FCS) students who struggle with literacy skills. For more information\, please visit readws.org.
URL:https://forsythfamilymagazine.com/event/read-write-spell-volunteer-info-session/
LOCATION:Online\, Zoom
ORGANIZER;CN="Susan Tague":MAILTO:susan@readws.org
END:VEVENT
BEGIN:VEVENT
DTSTART;TZID=America/New_York:20220807T193000
DTEND;TZID=America/New_York:20220807T193000
DTSTAMP:20260423T005248
CREATED:20220811T131243Z
LAST-MODIFIED:20220811T131243Z
UID:1334512-1659900600-1659900600@forsythfamilymagazine.com
SUMMARY:“Jazz With Words” - Diana Tuffin\, vocalist - by Music Carolina SummerFest
DESCRIPTION:$26 General Admission \nJazz songs with poignant and evocative lyrics\, including\, “Is That Jazz\,” by Gil Scott-Heron\, “Lush Life\,” by Billy Strayhorn and more. Poet Spencer Aubrey will add more words as an interlude between songs. Great jazz with great words. \nDiana Tuffin\, vocals; Spencer Aubrey\, poetry; Matt Kendrick\, bass; Kassem Williams\, drums; Michael Kinchen\, Saxophone\,” and Federico Pivetta\, piano. \nTickets: https://app.arts-people.com/index.php?show=140749
URL:https://forsythfamilymagazine.com/event/jazz-with-words-diana-tuffin-vocalist-by-music-carolina-summerfest/
LOCATION:Piedmont Music Center\, 212 N. Broad St.\, Winston-Salem\, NC 27101
ORGANIZER;CN="Joe Mount":MAILTO:mountjf1@gmail.com
END:VEVENT
BEGIN:VEVENT
DTSTART;TZID=America/New_York:20220806T110000
DTEND;TZID=America/New_York:20220806T170000
DTSTAMP:20260423T005248
CREATED:20220811T131503Z
LAST-MODIFIED:20220811T131503Z
UID:1334515-1659783600-1659805200@forsythfamilymagazine.com
SUMMARY:Blue Jean Mobile Boutique Pop Up @ Remedy Apothecary
DESCRIPTION:Blue Jean’s mobile fashion truck “Dolly” will be popping up for an afternoon of shopping fun at Remedy Apothecary.
URL:https://forsythfamilymagazine.com/event/blue-jean-mobile-boutique-pop-up-remedy-apothecary/
LOCATION:Remedy Apothecary\, 4725 Yadkinville Road\, Pfafftown
END:VEVENT
BEGIN:VEVENT
DTSTART;VALUE=DATE:20220805
DTEND;VALUE=DATE:20220806
DTSTAMP:20260423T005248
CREATED:20220811T131750Z
LAST-MODIFIED:20220811T131750Z
UID:1334518-1659657600-1659743999@forsythfamilymagazine.com
SUMMARY:Free Friend Friday with F45 Training Winston-Salem
DESCRIPTION:ALL CLASSES Friday\, August 5th\, will have free drop ins for anyone who wants to come take a class!!! \nMembers\, book into your classes on Mindbody\, non-members\, please book to secure your spot: bit.ly/F45WSNCFREEFRIENDFRIDAY \nClass times: 5:30\, 6:30\, 8:30 AM and 5:30PM \n👉🏻Hybrid (mix of cardio and strength) 45 group training class\n👉🏻All abilities welcome\n👉🏻1st Friday of each month: 5:30\, 6:30 8:30 AM / 5:30 PM
URL:https://forsythfamilymagazine.com/event/free-friend-friday-with-f45-training-winston-salem/
LOCATION:F45 Training Winston-Salem\, 486 N Patterson Ave\, Suite 125
ORGANIZER;CN="Dee Duggan":MAILTO:winstonsalem@f45training.com
END:VEVENT
BEGIN:VEVENT
DTSTART;VALUE=DATE:20220708
DTEND;VALUE=DATE:20220901
DTSTAMP:20260423T005248
CREATED:20220811T132125Z
LAST-MODIFIED:20220811T132125Z
UID:1334521-1657238400-1661990399@forsythfamilymagazine.com
SUMMARY:Nitsa's Half Yearly Sale
DESCRIPTION:Nitsa’s Half Yearly Sale — Spring and Summer Fashions Up to 70% OFF.\nExcludes Bridal\, Cosmetics\, and Special Orders
URL:https://forsythfamilymagazine.com/event/nitsas-half-yearly-sale/
LOCATION:NITSA’S APPAREL\, 107 South Stratford Rd
ORGANIZER;CN="Chris Bambalis":MAILTO:CHRIS@NITSAS.COM
END:VEVENT
BEGIN:VEVENT
DTSTART;TZID=America/New_York:20220620T090000
DTEND;TZID=America/New_York:20220812T140000
DTSTAMP:20260423T005248
CREATED:20220811T132503Z
LAST-MODIFIED:20220811T132503Z
UID:1334525-1655715600-1660312800@forsythfamilymagazine.com
SUMMARY:Triad Sports Management (Multi Sports Summer Camp )
DESCRIPTION:Soccer camp\nages 5-12 yrs old\nplease register: www.triadsporstmanagement.com
URL:https://forsythfamilymagazine.com/event/triad-sports-management-multi-sports-summer-camp/
LOCATION:Rise Indoor Sports Facility\, 419 Twins Way
ORGANIZER;CN="Pamela Colins":MAILTO:pam@riseindoorsports.com
END:VEVENT
BEGIN:VEVENT
DTSTART;VALUE=DATE:20220614
DTEND;VALUE=DATE:20220812
DTSTAMP:20260423T005248
CREATED:20220811T132709Z
LAST-MODIFIED:20220811T132709Z
UID:1334529-1655164800-1660262399@forsythfamilymagazine.com
SUMMARY:Twin City Volleyball Camp
DESCRIPTION:weekly camps \,boys and girls\, grades 5-8\nJune 14-16\nJuly 12-14\nJuly 19-21\nAug 2-4\nAug 9-11
URL:https://forsythfamilymagazine.com/event/twin-city-volleyball-camp/
LOCATION:Rise Indoor Sports Facility\, 419 Twins Way
ORGANIZER;CN="Pamela Colins":MAILTO:pam@riseindoorsports.com
END:VEVENT
END:VCALENDAR